BEGIN:VCALENDAR
VERSION:2.0
PRODID:-//wp-events-plugin.com//7.2.3.1//EN
TZID:Europe/Zurich
X-WR-TIMEZONE:Europe/Zurich
BEGIN:VEVENT
UID:12@sac-saas.ch
DTSTART;TZID=Europe/Zurich;VALUE=DATE:20221217
DTEND;TZID=Europe/Zurich;VALUE=DATE:20221218
DTSTAMP:20221204T185443Z
URL:https://sac-saas.ch/events/lawinenkurs-1/
SUMMARY:abgesagt-Lawinenkurs / Anmeldung ab 06.11.2022
DESCRIPTION:Aufgrund zu geringer Teilnehmerzahlen wird dieser Kurs am Samst
 ag leider nicht stattfinden können. Der Lawinenkurs am Sonntag findet a
 ber definitiv statt. \n\nTourenvorbereitung\, Verhalten bei Lawinengefahr
 \, Kameradenrettung hier nur einige Themen welche wir während dem Lawinen
 kurs besprechen werden.\n\nEs ist von grosser Wichtigkeit\, dass alle Teil
 nehmer auf Skitouren des SAC Saas Bescheid wissen über diese unter Umstä
 nden lebenswichtigen Themen.\n\nWir freuen uns während eines interessante
 n Tages euch in die Lawinenkunde einzuführen oder aufzufrischen.\n\nGabri
 el und Mario\n\n\n\nAnmeldung möglich ab:\n06.11.202\, 07:00\n\n\nSchwier
 igkeit\n\n\n\nEckdaten\n\n\n\nAusrüstung\nnormale Skitourenausrüstung\, 
 LVS\, Sonde\, Schaufel\n\n\nTreffpunkt\n\n\n\nTeilnehmerzahl\n20 Pers.\n\n
 \n\n&nbsp\;
CATEGORIES:Ausbildungskurs,SAC Tour
END:VEVENT
BEGIN:VTIMEZONE
TZID:Europe/Zurich
X-LIC-LOCATION:Europe/Zurich
BEGIN:STANDARD
DTSTART:20221030T020000
TZOFFSETFROM:+0200
TZOFFSETTO:+0100
TZNAME:CET
END:STANDARD
END:VTIMEZONE
END:VCALENDAR