BEGIN:VCALENDAR
VERSION:2.0
PRODID:-//wp-events-plugin.com//7.2.3.1//EN
TZID:Europe/Zurich
X-WR-TIMEZONE:Europe/Zurich
BEGIN:VEVENT
UID:436@sac-saas.ch
DTSTART;TZID=Europe/Zurich;VALUE=DATE:20250215
DTEND;TZID=Europe/Zurich;VALUE=DATE:20250217
DTSTAMP:20250210T195509Z
URL:https://sac-saas.ch/events/langlaufkurs-skaiting-kandersteg-anmeldung-
 ab-15-01-2025/
SUMMARY:Langlaufkurs Skaiting Kandersteg / Anmeldung ab 15.01.2025
DESCRIPTION:&nbsp\;\n\n\n\n\n\n\n\nSchwierigkeit\nvom Einsteiger bis zum Fo
 rtgeschrittenen Langläufer\n\n\nEckdaten\nGoms\, Obergesteln\n\n\nAusrüs
 tung\nkann gemietet werden / Skatingausrüstung\n\n\nTreffpunkt\nHallbenba
 rter Sport\, Obergesteln 10:00 Uhr\n\n\nTeilnehmerzahl\nmax. 10\n\n\n\n&nb
 sp\;
CATEGORIES:SAC Tour
END:VEVENT
BEGIN:VTIMEZONE
TZID:Europe/Zurich
X-LIC-LOCATION:Europe/Zurich
BEGIN:STANDARD
DTSTART:20241027T020000
TZOFFSETFROM:+0200
TZOFFSETTO:+0100
TZNAME:CET
END:STANDARD
END:VTIMEZONE
END:VCALENDAR