BEGIN:VCALENDAR
VERSION:2.0
PRODID:-//wp-events-plugin.com//7.2.3.1//EN
TZID:Europe/Zurich
X-WR-TIMEZONE:Europe/Zurich
BEGIN:VEVENT
UID:575@sac-saas.ch
DTSTART;TZID=Europe/Zurich;VALUE=DATE:20250215
DTEND;TZID=Europe/Zurich;VALUE=DATE:20250217
DTSTAMP:20251123T193425Z
URL:https://sac-saas.ch/events/langlaufkurs-skaiting-kandersteg-anmeldung-
 ab-15-01-2025-copy/
SUMMARY:Langlaufkurs Skaiting Kandersteg / Anmeldung ab 15.01.2025 Kopie
DESCRIPTION:&nbsp\;\n\n\n\n\n\n\n\nSchwierigkeit\n\n\n\nEckdaten\n\n\n\nAus
 rüstung\n\n\n\nTreffpunkt\n\n\n\nTeilnehmerzahl\n\n\n\n\n&nbsp\;
CATEGORIES:SAC Tour
END:VEVENT
BEGIN:VTIMEZONE
TZID:Europe/Zurich
X-LIC-LOCATION:Europe/Zurich
BEGIN:STANDARD
DTSTART:20241027T020000
TZOFFSETFROM:+0200
TZOFFSETTO:+0100
TZNAME:CET
END:STANDARD
END:VTIMEZONE
END:VCALENDAR