BEGIN:VCALENDAR
VERSION:2.0
PRODID:-//wp-events-plugin.com//7.2.3.1//EN
TZID:Europe/Zurich
X-WR-TIMEZONE:Europe/Zurich
BEGIN:VEVENT
UID:104@sac-saas.ch
DTSTART;TZID=Europe/Zurich;VALUE=DATE:20230211
DTEND;TZID=Europe/Zurich;VALUE=DATE:20230212
DTSTAMP:20230122T192150Z
URL:https://sac-saas.ch/events/langlauf-kurs-goms/
SUMMARY:Langlauf-Kurs Goms / Anmeldung ab 11.01.2023
DESCRIPTION:&nbsp\;\n\n\n\nAnmeldung möglich ab:\n11.01.2023\, 07:00\n\n\n
 Schwierigkeit\nLanglaufkurs für Anfänger\n\n\nEckdaten\n ↑ xxx Hm  
 ↓ xxx Hm -&gt\; x h\n\n\nAusrüstung\nSkating Ausrüstung\, Vermietung b
 ei Hallenbarter Shop Obergesteln Vorgängig bei Ihm Anmelden\, Warme Kleid
 er\, warmes Getränk im Bidon. Kosten Fr.10.- pro Tag\n\n\nTreffpunkt\n10.
 00 Uhr Bistro Hallenbarter Obergesteln\n\n\nTeilnehmerzahl\n10\n\n\n\n&nbs
 p\;
CATEGORIES:Ausbildungskurs,SAC Tour
END:VEVENT
BEGIN:VTIMEZONE
TZID:Europe/Zurich
X-LIC-LOCATION:Europe/Zurich
BEGIN:STANDARD
DTSTART:20221030T020000
TZOFFSETFROM:+0200
TZOFFSETTO:+0100
TZNAME:CET
END:STANDARD
END:VTIMEZONE
END:VCALENDAR