BEGIN:VCALENDAR
VERSION:2.0
PRODID:-//wp-events-plugin.com//7.2.3.1//EN
TZID:Europe/Zurich
X-WR-TIMEZONE:Europe/Zurich
BEGIN:VEVENT
UID:188@sac-saas.ch
DTSTART;TZID=Europe/Zurich;VALUE=DATE:20240706
DTEND;TZID=Europe/Zurich;VALUE=DATE:20240708
DTSTAMP:20240704T191252Z
URL:https://sac-saas.ch/events/lagginhorn_suedgrat-2024/
SUMMARY:Ersatztour - Klettersteig anstelle Hochtour Weissmies Südgrat / An
 meldung ab 01.06.2024
DESCRIPTION:Die Tour aufs Weissmiess fällt wegen schlechtem Wetter ins "Wa
 sser". Wir organisieren eine Ersatztour für Samstag Morgen. Bis Mittag so
 llte das Wetter halten und wir wollen den Klettersteig in Saillon machen.\
 n\nVia Ferrata Farinetta | Abenteuer Klettersteig bei Saillon / Wallis (vi
 a-ferrata.de)\n\n&nbsp\;\n\n\n\nAnmeldung möglich ab:\n01.06.2024\n\n\nSc
 hwierigkeit\nK5\, gute Kondition und schwindelfrei\n\n\nEckdaten\nca. 400 
 Höhenmeter\n\n\nAusrüstung\nKlettergurt\, Klettersteigset\, Helm\, leich
 te Handschuhe\, Selbstsicherungsschlinge\, 2 Sicherungskarabiner (HMS)\, g
 utes Schuhwerk\nFür Abstieg ev. Regenschutz und Proviant\n\n\nTreffpunkt\
 nca. 08.00 in Saillon (Anreise nach Absprache)\n\n\nTeilnehmerzahl\n8 inkl
 . 2 Seilführer\n\n\n\n&nbsp\;
CATEGORIES:Hochtour,SAC Tour
END:VEVENT
BEGIN:VTIMEZONE
TZID:Europe/Zurich
X-LIC-LOCATION:Europe/Zurich
BEGIN:DAYLIGHT
DTSTART:20240331T030000
TZOFFSETFROM:+0100
TZOFFSETTO:+0200
TZNAME:CEST
END:DAYLIGHT
END:VTIMEZONE
END:VCALENDAR