BEGIN:VCALENDAR
VERSION:2.0
PRODID:-//wp-events-plugin.com//7.2.3.1//EN
TZID:Europe/Zurich
X-WR-TIMEZONE:Europe/Zurich
BEGIN:VEVENT
UID:201@sac-saas.ch
DTSTART;TZID=Europe/Zurich;VALUE=DATE:20240305
DTEND;TZID=Europe/Zurich;VALUE=DATE:20240306
DTSTAMP:20240304T122751Z
URL:https://sac-saas.ch/events/la-traversata/
SUMMARY:Wegen Schnee leider nicht durchführbar. Skitour La Traversata / An
 meldung ab 05.02.2024
DESCRIPTION:&nbsp\;\n\n\n\nAnmeldung möglich ab:\n05.02.2024\n\n\nSchwieri
 gkeit\nMittel\n\n\nEckdaten\n ↑ 233 Hm  ↓ 1546 Hm -&gt\; x h\n\n\nAu
 srüstung\nKlettergurt\nKlettersteigset\nLawinenverschütteten-Suchgerät 
 (LVS)\nRucksack\, Schaufel\, Sonde\nWarme\, wetterfeste Bekleidung\nWarme 
 Handschuhe und Mütze\nSonnenbrille und Sonnenschutz\nZwischenverpflegung\
 n\n\nTreffpunkt\nZermatt\n\n\nTeilnehmerzahl\n5 inkl. TL\n\n\n\nDiese Skit
 our startet bei der Bergstation Furggsattel. Von da geht es in einer Stund
 e zum Einstieg des Winterklettersteigs „La Traversata». Mit aufgebunden
 en Ski durchsteigt man den Klettersteig – dies dauert eine weitere Stund
 e – bis man schliesslich die geschichtsträchtige Bergstation Furggen (3
 ’500 m) erreicht. Zum Schluss heisst es: Ski wieder anschnallen und in e
 iner 1’500 m langen Freeride-Abfahrt das italienische Breuil-Cervinia er
 reichen. Immer mit der Südwand des Matterhorns im Rücken.
CATEGORIES:SAC Tour,Skitour
END:VEVENT
BEGIN:VTIMEZONE
TZID:Europe/Zurich
X-LIC-LOCATION:Europe/Zurich
BEGIN:STANDARD
DTSTART:20231029T020000
TZOFFSETFROM:+0200
TZOFFSETTO:+0100
TZNAME:CET
END:STANDARD
END:VTIMEZONE
END:VCALENDAR