BEGIN:VCALENDAR
VERSION:2.0
PRODID:-//wp-events-plugin.com//7.2.3.1//EN
TZID:Europe/Zurich
X-WR-TIMEZONE:Europe/Zurich
BEGIN:VEVENT
UID:29@sac-saas.ch
DTSTART;TZID=Europe/Zurich;VALUE=DATE:20230702
DTEND;TZID=Europe/Zurich;VALUE=DATE:20230703
DTSTAMP:20230612T175054Z
URL:https://sac-saas.ch/events/la-maya-nordgrat/
SUMMARY:La Maya Nordgrat / Anmeldung ab 04.06.2023
DESCRIPTION:Von Ferpècle wandern wir zuerst hoch\, anschliessend erfolgt s
 chöne Kletterei auf den Gipfel La Maya\n\n\n\nAnmeldung möglich ab:\n04.
 06.2023\, 07:00\n\n\nSchwierigkeit\nWS\, 4\n\n\nEckdaten\n ↑ 1000 Hm  
 ↓ 1000 Hm\n\n\nAusrüstung\nKletterausrüstung\n\n\nTreffpunkt\nwird noc
 h bekannt gegeben\n\n\nTeilnehmerzahl\n1TL (Francine)\, 2 SF (Alessandro\,
  Simone)\, 3 Teilnehmer\n\n\n\n&nbsp\;
CATEGORIES:SAC Tour
END:VEVENT
BEGIN:VTIMEZONE
TZID:Europe/Zurich
X-LIC-LOCATION:Europe/Zurich
BEGIN:DAYLIGHT
DTSTART:20230326T030000
TZOFFSETFROM:+0100
TZOFFSETTO:+0200
TZNAME:CEST
END:DAYLIGHT
END:VTIMEZONE
END:VCALENDAR