BEGIN:VCALENDAR
VERSION:2.0
PRODID:-//wp-events-plugin.com//7.2.3.1//EN
TZID:Europe/Zurich
X-WR-TIMEZONE:Europe/Zurich
BEGIN:VEVENT
UID:482@sac-saas.ch
DTSTART;TZID=Europe/Zurich;VALUE=DATE:20250915
DTEND;TZID=Europe/Zurich;VALUE=DATE:20250916
DTSTAMP:20250911T152305Z
URL:https://sac-saas.ch/events/kurtzfristig-bouldern-am-abend-im-saastal-a
 nmeldung-ab-sofort/
SUMMARY:Kurzfristig - Bouldern am Abend im Saastal/ Anmeldung ab sofort
DESCRIPTION:Für Kurzentschlossene und Interessierte möchte ich am Mo. 15.
  September ab 16.00 ein Bouldern im Saastal organisieren. Juan wird uns be
 gleiten. Er ist Initiant für die diversen Boulderregionen im Saastal und 
 kennt sich bestens im Gebiet aus. Wir werden am Sonntag 14. September geka
 nnt geben\, wo wir uns im Saastal treffen\n\n\n\nAnmeldung ab:\nsofort\n\n
 \nSchwierigkeit\nab 5a\n\n\nEckdaten\nTreffpunkt im Saastal (voraussichtli
 ch in Saas-Fee)\n\n\nAusrüstung\nKletterfinken und bequeme Kleidung\n\n\n
 Treffpunkt\n\n\n\nTeilnehmerzahl\n10\n\n\n\n&nbsp\;
CATEGORIES:SAC Tour
END:VEVENT
BEGIN:VTIMEZONE
TZID:Europe/Zurich
X-LIC-LOCATION:Europe/Zurich
BEGIN:DAYLIGHT
DTSTART:20250330T030000
TZOFFSETFROM:+0100
TZOFFSETTO:+0200
TZNAME:CEST
END:DAYLIGHT
END:VTIMEZONE
END:VCALENDAR