BEGIN:VCALENDAR
VERSION:2.0
PRODID:-//wp-events-plugin.com//7.2.3.1//EN
TZID:Europe/Zurich
X-WR-TIMEZONE:Europe/Zurich
BEGIN:VEVENT
UID:356@sac-saas.ch
DTSTART;TZID=Europe/Zurich;VALUE=DATE:20250614
DTEND;TZID=Europe/Zurich;VALUE=DATE:20250615
DTSTAMP:20250301T190903Z
URL:https://sac-saas.ch/events/kraft-der-natur-sirwoltusee-anmeldung-ab-01
 -05-2025/
SUMMARY:Abgesagt - Kraft der Natur - Sirwoltusee /
DESCRIPTION:Evtl. klappt es im 2026 - bin im 2025 von April bis Ende Oktobe
 r in Korsika.\n\nAchtsames Wandern in der Simplonregion - Mit einfachen Ü
 bungen aktivieren wir während des Wanderns all unsere Sinne. Dadurch kön
 nen wir neue Perspektiven einnehmen und Bekanntes anders erleben. Wir stau
 nen über alltägliche Kleinigkeiten\, die sonst keine Beachtung finden. L
 ass uns die Natur auf eine besondere Art entdecken.\n\n\n\n\n\n\n\nSchwier
 igkeit\nT2/T3\n\n\nEckdaten\nWanderung ca. 900hm/1200hm\n\n\nAusrüstung\n
 Wanderausrüstung und Verpflegung\n\n\nTreffpunkt\nBrig Bahnhof (genaue Ze
 it wird noch bekannt gegeben)\n\n\nTeilnehmerzahl\n6 plus TL\n\n\n\n
CATEGORIES:SAC Tour
END:VEVENT
BEGIN:VTIMEZONE
TZID:Europe/Zurich
X-LIC-LOCATION:Europe/Zurich
BEGIN:DAYLIGHT
DTSTART:20250330T030000
TZOFFSETFROM:+0100
TZOFFSETTO:+0200
TZNAME:CEST
END:DAYLIGHT
END:VTIMEZONE
END:VCALENDAR