BEGIN:VCALENDAR
VERSION:2.0
PRODID:-//wp-events-plugin.com//7.2.3.1//EN
TZID:Europe/Zurich
X-WR-TIMEZONE:Europe/Zurich
BEGIN:VEVENT
UID:447@sac-saas.ch
DTSTART;TZID=Europe/Zurich;VALUE=DATE:20250524
DTEND;TZID=Europe/Zurich;VALUE=DATE:20250601
DTSTAMP:20241130T095918Z
URL:https://sac-saas.ch/events/kletterwoche-verdon-ueber-auffahrt-anmeldun
 g-ab-01-01-2025/
SUMMARY:Kletterwoche Verdon über Auffahrt / Anmeldung ab 01.01.2025
DESCRIPTION:Klettern Verdon\n\nNach 10 Jahren Erprobung von gemeinsamen ver
 längerten Kletterwochenenden\, wollen wir dieses Jahr mal eine ganze Woch
 e zusammen verbringen. Wir planen von Sa. 24.05. bis Sa. 31.05. und umgehe
 n somit den obligatorischen Stau am Auffahrtwochenende \;-) . Die An- und 
 Abreise ist aber natürlich individuell möglich.\n\nDas Ziel ist das Gebi
 et um die Verdonschlucht im Département Alpes-de-Haute-Provence. Die Gorg
 e du Verdon verdankt ihren Namen den Fluss Verdon\, der sich 21 km durch d
 en bis zu 700m tiefen Gran Canyon schlängelt. Sie beginnt flussabwärts n
 ach der wunderschönen kleinen Stadt Castellane und endet nahe dem noch sc
 höneren Dorf Moustiers-Saine-Marie im Stausee Lac de Saint-Croix. Dort is
 t auch unser Basecamp auf dem Camping Le Moulin (Stellplätze und Mietunte
 rkünfte) geplant.\n\nBerühmt ist das Klettern in dem Gebiet\, weil viele
  Klettertouren mit dem Abseilen hinunter in die Schlucht beginnen. Somit m
 uss man unbedingt wieder hochkommen\, sonst... also - Abenteuer pur\, wenn
  zudem Bartgeier und Adler um einen herumkreisen \;-)  aber easy: mittler
 weile gibt es viele verschiedene Klettermöglichkeiten\, nicht nur MSL son
 dern auch sehr tolle lohnende Klettergärten mit moderaten Schwierigkeiten
  in unglaublich schöner\, wilder Umgebung. Ausserdem lädt die Region unb
 edingt auch zum Wandern (z.B. 16 km durch die enge Schlucht)\, Velofahren 
 und jeglichen Wassersport ein.\n\nWir wollen gemeinsam schöne spannende T
 age dort erleben und entscheiden spontan\, von Tag zu Tag\, was wann wie l
 äuft. Klettern steht sicher im Fokus\, aber nicht zwingend.\n\nBei Fragen
  bitte melden. Es wird\, wie immer\, schon im Voraus einen What`s App Chat
  geben.\n\n\n\n\n\n\n\nSchwierigkeit\n\n\n 	Vorstieg sichern können\n 	Kl
 ettern im 5. Grad (TIP: vielleicht vorher schon paarmal wieder klettern...
 )\n 	bei Interesse an MSL: Grundkenntnisse MSL nötig für Nachstieg (und 
 selbstständiges Abseilen)\n 	TIP: Kletter-Kurse von Michi und Pascal im A
 pril/Mai besuchen\n\n\n\n\nEckdaten\npro Teilnahme am Tourenprogramm 15 Fr
 .\n\n\nAusrüstung\n\n\n\nTreffpunkt\nCamping Le Moulin\n\n\nTeilnehmerzah
 l\n25 (Mindestteilnehmerzahl: 8 incl. Jan &amp\; Simone )\n\n\n\n&nbsp\;
CATEGORIES:SAC Tour
END:VEVENT
BEGIN:VTIMEZONE
TZID:Europe/Zurich
X-LIC-LOCATION:Europe/Zurich
BEGIN:DAYLIGHT
DTSTART:20250330T030000
TZOFFSETFROM:+0100
TZOFFSETTO:+0200
TZNAME:CEST
END:DAYLIGHT
END:VTIMEZONE
END:VCALENDAR