BEGIN:VCALENDAR
VERSION:2.0
PRODID:-//wp-events-plugin.com//7.2.3.1//EN
TZID:Europe/Zurich
X-WR-TIMEZONE:Europe/Zurich
BEGIN:VEVENT
UID:408@sac-saas.ch
DTSTART;TZID=Europe/Zurich;VALUE=DATE:20250515
DTEND;TZID=Europe/Zurich;VALUE=DATE:20250516
DTSTAMP:20250512T050233Z
URL:https://sac-saas.ch/events/klettertraining-sicher-vorsteigen-und-siche
 rn-anmeldung-ab-15-04-25/
SUMMARY:Klettertraining\, sicher vorsteigen und sichern / Anmeldung ab 15.0
 4.25
DESCRIPTION:Sicher Vorsteigen und Sichern\n\n\n\nAnmeldung ab:\n15.04.25\n\
 n\nSchwierigkeit\n4-6b\n\n\nEckdaten\n\n\n\nAusrüstung\nKlettergurt\, Hel
 m\, Finken\, Sicherungsgerät\n\n\nTreffpunkt\n16:30 Parkplatz Restaurant 
 Mühle in Visp\n\n\nTeilnehmerzahl\n8\, mit Tourenleiter und Seilführer\n
 \n\n\n&nbsp\;
CATEGORIES:SAC Tour
END:VEVENT
BEGIN:VTIMEZONE
TZID:Europe/Zurich
X-LIC-LOCATION:Europe/Zurich
BEGIN:DAYLIGHT
DTSTART:20250330T030000
TZOFFSETFROM:+0100
TZOFFSETTO:+0200
TZNAME:CEST
END:DAYLIGHT
END:VTIMEZONE
END:VCALENDAR