BEGIN:VCALENDAR
VERSION:2.0
PRODID:-//wp-events-plugin.com//7.2.3.1//EN
TZID:Europe/Zurich
X-WR-TIMEZONE:Europe/Zurich
BEGIN:VEVENT
UID:450@sac-saas.ch
DTSTART;TZID=Europe/Zurich;VALUE=DATE:20250906
DTEND;TZID=Europe/Zurich;VALUE=DATE:20250908
DTSTAMP:20250716T043146Z
URL:https://sac-saas.ch/events/klettertour-klein-und-gross-similistock-anm
 eldung-ab-30-06-2025/
SUMMARY:Planänderung Klettertour Klein- und Gross Similistock / Anmeldung 
 ab 30.06.2025
DESCRIPTION:Aufgrund einer Terminkollision müssen wir die Tour absagen. Ab
 er es gibt im OKT. neu die Herbstklettertage im Piemont.\n\n&nbsp\;\n\nWir
  planen 2 Tage in dem Gebiet der Engelhörner (BEO). Aufstieg zur Hütte a
 b Rychenbachalp (ca. 1 Std.).\n\nDie Überschreitung des Klein und Gross S
 imiler dauert von Hütte zu Hütte ca. 7 Std.\n\nWir entscheiden je nach W
 etterlage\, ob wir die Tour Sa. oder So. angehen.\n\nAnderer Tag: Rosenlau
 istock (z.B. NW-Flanke\, Westkante)\n\n&nbsp\;\n\n\n\n\n\n\n\nSchwierigkei
 t\n4b\, alpin\, Trittsicherheit für den Abstieg\n\n\nEckdaten\nÜbernacht
 ung auf der Engelhornhütte\n\n\nAusrüstung\nwird via Chat abgesprochen\n
 \n\nTreffpunkt\n\n\n\nTeilnehmerzahl\n6 inkl. TL und SF\n\n\n\n&nbsp\;
CATEGORIES:Klettern,SAC Tour
END:VEVENT
BEGIN:VTIMEZONE
TZID:Europe/Zurich
X-LIC-LOCATION:Europe/Zurich
BEGIN:DAYLIGHT
DTSTART:20250330T030000
TZOFFSETFROM:+0100
TZOFFSETTO:+0200
TZNAME:CEST
END:DAYLIGHT
END:VTIMEZONE
END:VCALENDAR