BEGIN:VCALENDAR
VERSION:2.0
PRODID:-//wp-events-plugin.com//7.2.3.1//EN
TZID:Europe/Zurich
X-WR-TIMEZONE:Europe/Zurich
BEGIN:VEVENT
UID:449@sac-saas.ch
DTSTART;TZID=Europe/Zurich;VALUE=DATE:20250809
DTEND;TZID=Europe/Zurich;VALUE=DATE:20250810
DTSTAMP:20241130T102011Z
URL:https://sac-saas.ch/events/klettertour-gross-bielenhorn-so-grat-anmeld
 ung-ab-09-07-2025/
SUMMARY:Klettertour Gross Bielenhorn SO-Grat / Anmeldung ab 09.07.2025
DESCRIPTION:Zustieg vom Furkapass (Sidelenbach 2280m) ca. 2 Std. bis zum Ei
 nstieg auf 2891m\, 7 SL im Urner Granit (Kletterfinken) und dann noch Grat
 kletterei (Bergschuhe) bis zum Gipfel 3210m (Einstieg bis Gipfel ca. 4 Std
 .)\; abseilen und Abstieg (ca. 2 Std.)\n\n\n\n\n\n\n\nSchwierigkeit\n4c\, 
 alpin\, Trittsicherheit nötig\, selbstständiges Abseilen\n\n\nEckdaten\n
 1000hm Auf-/Abstieg incl. Kletterei\; mind. 8 Std.\n\n\nAusrüstung\n\n\n\
 nTreffpunkt\nFurkapass\n\n\nTeilnehmerzahl\n6 incl. TL und SF\n\n\n\n&nbsp
 \;
CATEGORIES:Klettern,SAC Tour
END:VEVENT
BEGIN:VTIMEZONE
TZID:Europe/Zurich
X-LIC-LOCATION:Europe/Zurich
BEGIN:DAYLIGHT
DTSTART:20250330T030000
TZOFFSETFROM:+0100
TZOFFSETTO:+0200
TZNAME:CEST
END:DAYLIGHT
END:VTIMEZONE
END:VCALENDAR