BEGIN:VCALENDAR
VERSION:2.0
PRODID:-//wp-events-plugin.com//7.2.3.1//EN
TZID:Europe/Zurich
X-WR-TIMEZONE:Europe/Zurich
BEGIN:VEVENT
UID:363@sac-saas.ch
DTSTART;TZID=Europe/Zurich;VALUE=DATE:20250712
DTEND;TZID=Europe/Zurich;VALUE=DATE:20250714
DTSTAMP:20250708T191556Z
URL:https://sac-saas.ch/events/klettertour-diamantstock-ostgrat-anmeldung-
 ab-01-06-2025/
SUMMARY:TOUR ABGESAGT! Keine Anmeldung und Verletzung Urs
DESCRIPTION:&nbsp\;\n\n\n\nAnmeldung ab:\n\n\n\nSchwierigkeit\nWS\n\n\nEckd
 aten\n\n\n\nAusrüstung\nHochtourenausrüstung\n\n\nTreffpunkt\nWird noch 
 bekannt gegeben\n\n\nTeilnehmerzahl\n3 Seilführer-/innen  plus 3 Teilneh
 mer/-innen\n\n\n\nBächlitalhütte ist ausgebucht\, neue Tour Rifugio Teod
 ulo\, Bahn bis Trockener Steg\n\nTeodulhorn erster Tag\n\nzweiter Tag je 
 nach Verhältnissen Hochtour im Gebiet Kleinmatterhorn (Castor / Pollux)
CATEGORIES:SAC Tour
END:VEVENT
BEGIN:VTIMEZONE
TZID:Europe/Zurich
X-LIC-LOCATION:Europe/Zurich
BEGIN:DAYLIGHT
DTSTART:20250330T030000
TZOFFSETFROM:+0100
TZOFFSETTO:+0200
TZNAME:CEST
END:DAYLIGHT
END:VTIMEZONE
END:VCALENDAR