BEGIN:VCALENDAR
VERSION:2.0
PRODID:-//wp-events-plugin.com//7.2.3.1//EN
TZID:Europe/Zurich
X-WR-TIMEZONE:Europe/Zurich
BEGIN:VEVENT
UID:574@sac-saas.ch
DTSTART;TZID=Europe/Zurich;VALUE=DATE:20250712
DTEND;TZID=Europe/Zurich;VALUE=DATE:20250714
DTSTAMP:20251123T193315Z
URL:https://sac-saas.ch/events/klettertour-diamantstock-ostgrat-anmeldung-
 ab-01-06-2025-copy/
SUMMARY:Klettertour Diamantstock Ostgrat / Anmeldung ab 01.06.2025 Kopie
DESCRIPTION:&nbsp\;\n\n\n\nAnmeldung ab:\n\n\n\nSchwierigkeit\n\n\n\nEckdat
 en\n\n\n\nAusrüstung\n\n\n\nTreffpunkt\n\n\n\nTeilnehmerzahl\n\n\n\n\n&nb
 sp\;
CATEGORIES:SAC Tour
END:VEVENT
BEGIN:VTIMEZONE
TZID:Europe/Zurich
X-LIC-LOCATION:Europe/Zurich
BEGIN:DAYLIGHT
DTSTART:20250330T030000
TZOFFSETFROM:+0100
TZOFFSETTO:+0200
TZNAME:CEST
END:DAYLIGHT
END:VTIMEZONE
END:VCALENDAR