BEGIN:VCALENDAR
VERSION:2.0
PRODID:-//wp-events-plugin.com//7.2.3.1//EN
TZID:Europe/Zurich
X-WR-TIMEZONE:Europe/Zurich
BEGIN:VEVENT
UID:404@sac-saas.ch
DTSTART;TZID=Europe/Zurich;VALUE=DATE:20250508
DTEND;TZID=Europe/Zurich;VALUE=DATE:20250509
DTSTAMP:20250414T073738Z
URL:https://sac-saas.ch/events/klettertechnik-seilhandhabung-usw-anmeldung
 -ab-08-04-2025/
SUMMARY:Klettertechnik Seilhandhabung\, usw. / Anmeldung ab 08.04.2025
DESCRIPTION:Klettertechnik und Seilhandhabung\,\n\nJe nach Bedarf gehen wir
  in die Kletterhalle\, Kosten gehen dann zu Lasten der Teilnehmer\n\n\n\nA
 nmeldung ab:\n08.04.2025\n\n\nSchwierigkeit\n4-6b\n\n\nEckdaten\n\n\n\nAus
 rüstung\nKlettergurt\, Finken\, Helm\, wenn vorhanden Sicherungsgerät\, 
 Express\, Reepschnur\, Bandschlingen\n\n\nTreffpunkt\nParkplatz Rest. Müh
 le in Visp\, 16:30 Uhr\n\n\nTeilnehmerzahl\n8\n\n\n\n&nbsp\;
CATEGORIES:SAC Tour
END:VEVENT
BEGIN:VTIMEZONE
TZID:Europe/Zurich
X-LIC-LOCATION:Europe/Zurich
BEGIN:DAYLIGHT
DTSTART:20250330T030000
TZOFFSETFROM:+0100
TZOFFSETTO:+0200
TZNAME:CEST
END:DAYLIGHT
END:VTIMEZONE
END:VCALENDAR