BEGIN:VCALENDAR
VERSION:2.0
PRODID:-//wp-events-plugin.com//7.2.3.1//EN
TZID:Europe/Zurich
X-WR-TIMEZONE:Europe/Zurich
BEGIN:VEVENT
UID:239@sac-saas.ch
DTSTART;TZID=Europe/Zurich;VALUE=DATE:20240530
DTEND;TZID=Europe/Zurich;VALUE=DATE:20240603
DTSTAMP:20240523T184814Z
URL:https://sac-saas.ch/events/klettertage-ueber-fronleichnam-region-brian
 con-anmeldung-ab-01-02-2024/
SUMMARY:Klettertage über Fronleichnam Region Briancon/ Anmeldung ab 01.02.
 2024
DESCRIPTION:Wir werden die Klettertage ein 2. Mal in Frankreich in der Regi
 on um Briancon verbringen. Ausgangspunkt ist der Camping du Lac bei La Roc
 he de Rame. Der See\, die schöne kleine Anlage und die Pizzeria am Platz 
 sind ideal für uns. Stellplätze organisiere ich für alle nach Absprache
 \, es gibt aber auch die Möglichkeit einen kleinen Wohnwagen\, ein Pod od
 er ein kleines Chalet zu mieten (Anfrage/Reservierung per Mail über die H
 omepage: www.camping-du-lac-05.fr ).\n\nWie in den letzten Jahren erfolgre
 ich erprobt: Frühstück bereitet sich jeder selbst zu\, das Essen am Aben
 d organisieren wir zusammen. Sicher wird 1-2 mal gegrillt :-)\n\nDie Klett
 ermöglichkeiten sind unerschöpflich. Es ist sicher für jeden etwas dabe
 i. Sportklettern oder MSL\, wir entscheiden von Tag zu Tag. Auch wandern\,
  biken\, Klettersteige sind möglich. Oft ergeben sich Kleingruppen\, fall
 s man doch mal lieber ein Alternativprogramm machen möchte.\n\nBezüglich
  der Anreise: sicher ist der ein oder andere schon ein oder mehrere Tage v
 or Ort.\n\nMeldet euch bei allfälligen Rückfragen\,\n\nwir freuen uns se
 hr\,  Jan und Simone\n\n\n\nAnmeldung möglich ab:\n01.02.2024\n\n\nSchwi
 erigkeit\nVorstieg sichern können\n\n\nEckdaten\n\n\n\nAusrüstung\nSeile
  und Expressset nach Absprache\, Kletterausrüstung komplett\n\n\nTreffpun
 kt\nMi. abend oder Do. zum Frühstück auf dem Camping\n\n\nTeilnehmerzahl
 \nca. 25\n\n\n\n&nbsp\;
CATEGORIES:SAC Tour
END:VEVENT
BEGIN:VTIMEZONE
TZID:Europe/Zurich
X-LIC-LOCATION:Europe/Zurich
BEGIN:DAYLIGHT
DTSTART:20240331T030000
TZOFFSETFROM:+0100
TZOFFSETTO:+0200
TZNAME:CEST
END:DAYLIGHT
END:VTIMEZONE
END:VCALENDAR