BEGIN:VCALENDAR
VERSION:2.0
PRODID:-//wp-events-plugin.com//7.2.3.1//EN
TZID:Europe/Zurich
X-WR-TIMEZONE:Europe/Zurich
BEGIN:VEVENT
UID:122@sac-saas.ch
DTSTART;TZID=Europe/Zurich;VALUE=DATE:20230416
DTEND;TZID=Europe/Zurich;VALUE=DATE:20230417
DTSTAMP:20230413T174519Z
URL:https://sac-saas.ch/events/klettertag/
SUMMARY:JO/KiBe Klettertag
DESCRIPTION:Wegen den kalten Temperaturen und den noch nassen Felsen am Son
 ntag gibts ein Klettertag in der Kletterhalle in Baltschieder. Andi Siegel
  wird euch als Bergführer begleiten.\n\n&nbsp\;\n\n&nbsp\;\n\nIn den Berg
 en ist noch Hochwinter\, doch im Tal wirds bereits wärmer und an den Fels
 en in der Sonne ist es angenehm zum Klettern\, somit starten auch wir in d
 ie Klettersaison. Wir werden je nach Wetter im Saas oder in der Region Vis
 p klettern.\n\n\n\nSchwierigkeit\nleicht\n\n\nAnmeldeschluss\n 13.4\n\n\n
 Ausrüstung\nKletterfinken\, Klettergurt\, falls vorhanden Sicherungsgerä
 t und Expresschlingen\, Lunch\n\n\nTreffpunkt\nÖV 9.22 ab Saas-Fee\, 9.30
  ab Saas Grund\n\n\nKosten\n10.- plus ÖV Ticket nach Visp retour\n\n\n\n&
 nbsp\;
CATEGORIES:SAC Tour
END:VEVENT
BEGIN:VTIMEZONE
TZID:Europe/Zurich
X-LIC-LOCATION:Europe/Zurich
BEGIN:DAYLIGHT
DTSTART:20230326T030000
TZOFFSETFROM:+0100
TZOFFSETTO:+0200
TZNAME:CEST
END:DAYLIGHT
END:VTIMEZONE
END:VCALENDAR