BEGIN:VCALENDAR
VERSION:2.0
PRODID:-//wp-events-plugin.com//7.2.3.1//EN
TZID:Europe/Zurich
X-WR-TIMEZONE:Europe/Zurich
BEGIN:VEVENT
UID:410@sac-saas.ch
DTSTART;TZID=Europe/Zurich;VALUE=DATE:20250621
DTEND;TZID=Europe/Zurich;VALUE=DATE:20250622
DTSTAMP:20250605T083604Z
URL:https://sac-saas.ch/events/klettersteig-gebidumstausee-blatten-anmeldu
 ng-ab-14-05-25/
SUMMARY:Klettersteig Gebidumstausee\, Blatten / Anmeldung ab 14.05.25
DESCRIPTION:Rundgang beim Gebidumstausee\, Klettersteig. Schöne\, leichte 
 Tour\n\nWir werden mit meinem Auto nach Blatten fahren und danach geniesse
 n.\n\n\n\nAnmeldung ab:\n14.05.25\n\n\nSchwierigkeit\nK3\n\n\nEckdaten\n4 
 h\, 100 hm\,\n\n\nAusrüstung\nKlettersteigequipment komplett\, Lunch\n\n\
 nTreffpunkt\nVisp\, Bahnhof Nord Parkplatz Mühle\, 10:15 Uhr\n\n\nTeilneh
 merzahl\n6\n\n\n\n&nbsp\;
CATEGORIES:SAC Tour
END:VEVENT
BEGIN:VTIMEZONE
TZID:Europe/Zurich
X-LIC-LOCATION:Europe/Zurich
BEGIN:DAYLIGHT
DTSTART:20250330T030000
TZOFFSETFROM:+0100
TZOFFSETTO:+0200
TZNAME:CEST
END:DAYLIGHT
END:VTIMEZONE
END:VCALENDAR