BEGIN:VCALENDAR
VERSION:2.0
PRODID:-//wp-events-plugin.com//7.2.3.1//EN
TZID:Europe/Zurich
X-WR-TIMEZONE:Europe/Zurich
BEGIN:VEVENT
UID:527@sac-saas.ch
DTSTART;TZID=Europe/Zurich;VALUE=DATE:20260531
DTEND;TZID=Europe/Zurich;VALUE=DATE:20260601
DTSTAMP:20260311T103509Z
URL:https://sac-saas.ch/events/klettern-unterwallis/
SUMMARY:Klettern Unterwallis / Anmeldung ab 05.05.2026
DESCRIPTION:&nbsp\;\n\n\n\nAnmeldung ab:\n05.05.2026\n\n\nSchwierigkeit\nab
  4c/5a\n\n\nEckdaten\n\n\n\nAusrüstung\nKletterfinken\, Gstältli\, Helm\
 , 8 Expressschlingen. Sicherungsgerät\, falls vorhanden Seil\n\n\nTreffpu
 nkt\nwird noch bekannt gegeben\n\n\nTeilnehmerzahl\n10\n\n\n\n&nbsp\;
CATEGORIES:Klettern,SAC Tour
END:VEVENT
BEGIN:VTIMEZONE
TZID:Europe/Zurich
X-LIC-LOCATION:Europe/Zurich
BEGIN:DAYLIGHT
DTSTART:20260329T030000
TZOFFSETFROM:+0100
TZOFFSETTO:+0200
TZNAME:CEST
END:DAYLIGHT
END:VTIMEZONE
END:VCALENDAR