BEGIN:VCALENDAR
VERSION:2.0
PRODID:-//wp-events-plugin.com//7.2.3.1//EN
TZID:Europe/Zurich
X-WR-TIMEZONE:Europe/Zurich
BEGIN:VEVENT
UID:249@sac-saas.ch
DTSTART;TZID=Europe/Zurich;VALUE=DATE:20240517
DTEND;TZID=Europe/Zurich;VALUE=DATE:20240518
DTSTAMP:20240516T183937Z
URL:https://sac-saas.ch/events/klettern-techniktraining-freitag-nachmittag
 /
SUMMARY:Klettern Techniktraining Freitag Nachmittag / Anmeldung ab 01.05.20
 24
DESCRIPTION:Wir gehen zur Wolfsplatte in Ausserberg. Treffpunkt 15.30 Uhr v
 or der Unterführung (bevor man zum Bahnhof Ausserberg fährt) links. Dort
  sollte man parken können\, ansonsten beim Bahnhof. \n\nSamuel\, Michi u
 nd Christine - könntet ihr ein Seil mitbringen? 50 Meter genügt. \n\nFr
 eue mich. Danke und bis morgen.\n\nAn diesem Nachmittag biete ich ein klei
 nes Techniktraining\, Auffrischung für die neue Klettersaison an. Es sind
  auch Einstieger*innen willkommen. Je nach Anmeldungen entscheide ich wohi
 n wir gehen (Raum Brig/Naters). Bei Schlechtwetter können wir in die Vert
 ic-Halle Baltschieder gehen.\n\n&nbsp\;\n\n\n\nAnmeldung möglich ab:\n01.
 05.2024\n\n\nSchwierigkeit\n4a\n\n\n\n\n\n\nAusrüstung\nKletterausrüstun
 g inkl. Gstältli\, Kletterfinken\, Helm\, falls vorhanden Sicherungsgerä
 t. 6-8 Expressschlingen\, evt. Seil\n\n\nTreffpunkt\nwird noch bekannt geg
 eben\, zirka 15 Uhr\n\n\nTeilnehmerzahl\n6\n\n\n\n&nbsp\;
CATEGORIES:Klettern,SAC Tour
END:VEVENT
BEGIN:VTIMEZONE
TZID:Europe/Zurich
X-LIC-LOCATION:Europe/Zurich
BEGIN:DAYLIGHT
DTSTART:20240331T030000
TZOFFSETFROM:+0100
TZOFFSETTO:+0200
TZNAME:CEST
END:DAYLIGHT
END:VTIMEZONE
END:VCALENDAR