BEGIN:VCALENDAR
VERSION:2.0
PRODID:-//wp-events-plugin.com//7.2.3.1//EN
TZID:Europe/Zurich
X-WR-TIMEZONE:Europe/Zurich
BEGIN:VEVENT
UID:407@sac-saas.ch
DTSTART;TZID=Europe/Zurich;VALUE=DATE:20250410
DTEND;TZID=Europe/Zurich;VALUE=DATE:20250411
DTSTAMP:20250407T155915Z
URL:https://sac-saas.ch/events/klettern-seil-und-mehrseilroutentechnik-anm
 eldung-ab-10-03-25/
SUMMARY:Klettern Seil- und Mehrseilroutentechnik / Anmeldung ab 10.03.25
DESCRIPTION:Seil- und Mehrseiltechniken\n\nDer Kurs findet am Abend statt\,
  entsprechend wird das Klettern selber eher eine nebenrolle einnehmen.\n\n
 Der Fokus an diesem Kurs:\n\nMehrseillängenklettern (Theorie und vereinfa
 chte Praxis) \, Sichern MSL vor und Nachstieg\, Abseiletechnik\, Standplat
 z einrichten.\n\n\n\nAnmeldung ab:\n10.03.25\n\n\nSchwierigkeit\n3-5a\n\n\
 nEckdaten\n\n\n\nAusrüstung\nMaterial mitnehmen:\n1. Helm\n2. Klettergurt
 \n3. Kletterfinken\n4. Express 6 Stück\n5. 5 Schraubkarabiner (HMS oder N
 ormal)\n6. Sicherungs/Abseilgerät Tuber (ATC\, Reverso...)\n7. Bandschlau
 fen 2 x 120 cm\n8. Bandschlaufe 60 cm\n9. Abseilschlaufe (fakultativ)\n10.
  Rebschnur 5-6mm\, ca 80-100cm lang\n\n\nTreffpunkt\nVisp\, Mühle PP (Bah
 nhof). Oder direkt beim Klettergarten.\n\nRestaurant Mühle Visp\; 16:30\n
 \nKlettergarten Ice Age (beim Gardamuseum Naters)\; ca. 16:45\n\n\nTeilneh
 merzahl\n8\, mit Tourenleiter und Seilführer\n\n\n\n&nbsp\;
CATEGORIES:SAC Tour
END:VEVENT
BEGIN:VTIMEZONE
TZID:Europe/Zurich
X-LIC-LOCATION:Europe/Zurich
BEGIN:DAYLIGHT
DTSTART:20250330T030000
TZOFFSETFROM:+0100
TZOFFSETTO:+0200
TZNAME:CEST
END:DAYLIGHT
END:VTIMEZONE
END:VCALENDAR