BEGIN:VCALENDAR
VERSION:2.0
PRODID:-//wp-events-plugin.com//7.2.3.1//EN
TZID:Europe/Zurich
X-WR-TIMEZONE:Europe/Zurich
BEGIN:VEVENT
UID:94@sac-saas.ch
DTSTART;TZID=Europe/Zurich;VALUE=DATE:20221127
DTEND;TZID=Europe/Zurich;VALUE=DATE:20221128
DTSTAMP:20221125T123224Z
URL:https://sac-saas.ch/events/klettern-saxon-jo-kibe/
SUMMARY:JO/KiBe Klettern Saxon
DESCRIPTION:Am Sonntag treffen wir uns um 8.50 in Almagell\, 09.00 in Saas 
 Fee\, 09.15 in Saas Grund.\nMatteo nehmen wir in Visp mit\, Elias und Simo
 n in Stalden.\n\nKosten 38.- ( Halleneintritt inbegriffen)\nKletterschuhe 
 und Klettergurt können für 7.- in der Halle gemietet werden.\n\nWir sind
  ca. um 16.00 wieder im Saas.\n\nFreue mich\nFabian\n\n&nbsp\;\n\n&nbsp\;\
 n\n\n\nSchwierigkeit\nleicht\n\n\nAnmeldeschluss\nMittwoch\, 23.11\n\n\nAu
 srüstung\nKlettergurt\, Kletterfinken\, falls vorhanden Sicherungsgerät\
 , Lunch\n\n\nTreffpunkt\n09.00 Saas Fee\, 8.50 Almagell\, 9.15 Grund\n\n\n
 Kosten\n38.-\n\n\n\n&nbsp\;
CATEGORIES:SAC JO,SAC KIBE
END:VEVENT
BEGIN:VTIMEZONE
TZID:Europe/Zurich
X-LIC-LOCATION:Europe/Zurich
BEGIN:STANDARD
DTSTART:20221030T020000
TZOFFSETFROM:+0200
TZOFFSETTO:+0100
TZNAME:CET
END:STANDARD
END:VTIMEZONE
END:VCALENDAR