BEGIN:VCALENDAR
VERSION:2.0
PRODID:-//wp-events-plugin.com//7.2.3.1//EN
TZID:Europe/Zurich
X-WR-TIMEZONE:Europe/Zurich
BEGIN:VEVENT
UID:246@sac-saas.ch
DTSTART;TZID=Europe/Zurich;VALUE=DATE:20240428
DTEND;TZID=Europe/Zurich;VALUE=DATE:20240429
DTSTAMP:20240425T200415Z
URL:https://sac-saas.ch/events/klettern-saisoneroeffnung-im-sueden/
SUMMARY:Klettern Saisoneröffnung im Süden / Anmeldung ab 01.04.2024
DESCRIPTION:Leider spielt das Wetter nicht mit. Ich werde wohl auf Hallenkl
 ettern in Saxon ausweichen. Falls jemand Lust auf Indoor Klettern hat\, da
 rf man sich gerne noch anmelden. Infos folgen.\n\nIch plane nach Nibbio (N
 ähe Mergozzo) zu fahren\, um uns so richtig auf den Frühling einzustimme
 n. Ein feines Gelati - oder vielleicht sogar eine Pizza - nach ein paar ge
 mütlichen Kletterrouten sollte sicher auch drin liegen.\n\nIn diesem Klet
 tergebiet mit verschiedenen Sektoren gibt es sehr viele Routen im 4. und 5
 . Schwierigkeitsbereich. Es sind also alle herzlich willkommen.\n\n\n\nAnm
 eldung möglich ab:\n14.04.2024\n\n\nSchwierigkeit\nab 4c\n\n\n\n\n\n\nAus
 rüstung\nKlettergstältli\, Kletterfinken\, Helm\, 12 Expressschlingen\, 
 Sicherungsgerät\n\n\nTreffpunkt\n08:00 Uhr Autoverlad Brig - wird noch be
 stätigt\n\n\nTeilnehmerzahl\n10\n\n\n\n&nbsp\;
CATEGORIES:Klettern,SAC Tour
END:VEVENT
BEGIN:VTIMEZONE
TZID:Europe/Zurich
X-LIC-LOCATION:Europe/Zurich
BEGIN:DAYLIGHT
DTSTART:20240331T030000
TZOFFSETFROM:+0100
TZOFFSETTO:+0200
TZNAME:CEST
END:DAYLIGHT
END:VTIMEZONE
END:VCALENDAR