BEGIN:VCALENDAR
VERSION:2.0
PRODID:-//wp-events-plugin.com//7.2.3.1//EN
TZID:Europe/Zurich
X-WR-TIMEZONE:Europe/Zurich
BEGIN:VEVENT
UID:238@sac-saas.ch
DTSTART;TZID=Europe/Zurich;VALUE=DATE:20240823
DTEND;TZID=Europe/Zurich;VALUE=DATE:20240825
DTSTAMP:20240819T172940Z
URL:https://sac-saas.ch/events/klettern-jaegihorn-hochtour-laggin-suedgrat
 -23-24-08-2024-anmeldung-ab-01-07-2024/
SUMMARY:Hochtour Laggin Südgrat 24.08.2024 / Anmeldung ab 01.07.2024
DESCRIPTION:Wir machen Lagginhorn Südgrat am Samstag als Tagestour. Ausgeb
 ucht!\n\n\n\nAnmeldung möglich ab:\n01.07.2024\n\n\nSchwierigkeit\nZS 3a\
 n\n\nEckdaten\n1000 hm\n\n\nAusrüstung\nHochtourenausrüstung\, Bandschli
 nge\, Karabiner\n\n\nTreffpunkt\n07:15 Uhr Parkplatz Bergbahnen Hohsaas\n\
 n\nTeilnehmerzahl\n4 inkl. Diana TL und Francine SF\n\n\n\n&nbsp\;
CATEGORIES:SAC Tour
END:VEVENT
BEGIN:VTIMEZONE
TZID:Europe/Zurich
X-LIC-LOCATION:Europe/Zurich
BEGIN:DAYLIGHT
DTSTART:20240331T030000
TZOFFSETFROM:+0100
TZOFFSETTO:+0200
TZNAME:CEST
END:DAYLIGHT
END:VTIMEZONE
END:VCALENDAR