BEGIN:VCALENDAR
VERSION:2.0
PRODID:-//wp-events-plugin.com//7.2.3.1//EN
TZID:Europe/Zurich
X-WR-TIMEZONE:Europe/Zurich
BEGIN:VEVENT
UID:153@sac-saas.ch
DTSTART;TZID=Europe/Zurich;VALUE=DATE:20230916
DTEND;TZID=Europe/Zurich;VALUE=DATE:20230917
DTSTAMP:20230901T162646Z
URL:https://sac-saas.ch/events/klettern-im-val-ferret-anmeldung-ab-01-08-2
 023/
SUMMARY:Neu: 1 Tag Klettern für alle am 16.09.
DESCRIPTION:Ort wird noch bekannt gegeben\, je nach Anmeldungen und Wetterl
 age. Optionen sind Unterwallis oder grenznahes Italien.\n\nBei 3 Teilnehme
 r*innen findet der Anlass statt.\n\n\n\nAnmeldung möglich ab:\n01.08.2023
 \, 07:00\n\n\nSchwierigkeit\nab 4a\n\n\n\n\n\n\nAusrüstung\nKlettergurt\,
  Finken\, Helm\, Expressschlingen\, Sicherungsgerät\, Seil (falls vorhand
 en)\n\n\nTreffpunkt\nwird noch bekannt gegeben\n\n\nTeilnehmerzahl\n10\n\n
 \n\n&nbsp\;
CATEGORIES:SAC Tour
END:VEVENT
BEGIN:VTIMEZONE
TZID:Europe/Zurich
X-LIC-LOCATION:Europe/Zurich
BEGIN:DAYLIGHT
DTSTART:20230326T030000
TZOFFSETFROM:+0100
TZOFFSETTO:+0200
TZNAME:CEST
END:DAYLIGHT
END:VTIMEZONE
END:VCALENDAR