BEGIN:VCALENDAR
VERSION:2.0
PRODID:-//wp-events-plugin.com//7.2.3.1//EN
TZID:Europe/Zurich
X-WR-TIMEZONE:Europe/Zurich
BEGIN:VEVENT
UID:248@sac-saas.ch
DTSTART;TZID=Europe/Zurich;VALUE=DATE:20240602
DTEND;TZID=Europe/Zurich;VALUE=DATE:20240603
DTSTAMP:20240521T075031Z
URL:https://sac-saas.ch/events/klettern-im-unterwallis/
SUMMARY:Klettern im Unterwallis/Anmeldung ab 18.05.2024
DESCRIPTION:Wir gehen nach Arbaz. Es gibt dort eine grosse Anzahl Routen. K
 urzer Zustieg\, sonniger Fels\, Schatten spendender Felsfuss\, ideal für 
 den Frühling.\n\nDer Anlass findet bei mind. 3 Teilnehmer*innen statt. An
 melden bitte bis Donnerstag\, 30.05.\n\n\n\nAnmeldung möglich ab:\n18.05.
 2024\n\n\nSchwierigkeit\nab 5a\n\n\nEckdaten\n ↑ xxx Hm  ↓ xxx Hm -&
 gt\; x h\n\n\nAusrüstung\nKlettergstältli\, Finken\, Helm\, Expressschli
 ngen\, Sicherungsgerät\, Lunch\n\n\nTreffpunkt\nwird noch bekannt gegeben
 \n\n\nTeilnehmerzahl\n10\n\n\n\n&nbsp\;
CATEGORIES:Klettern,SAC Tour
END:VEVENT
BEGIN:VTIMEZONE
TZID:Europe/Zurich
X-LIC-LOCATION:Europe/Zurich
BEGIN:DAYLIGHT
DTSTART:20240331T030000
TZOFFSETFROM:+0100
TZOFFSETTO:+0200
TZNAME:CEST
END:DAYLIGHT
END:VTIMEZONE
END:VCALENDAR