BEGIN:VCALENDAR
VERSION:2.0
PRODID:-//wp-events-plugin.com//7.2.3.1//EN
TZID:Europe/Zurich
X-WR-TIMEZONE:Europe/Zurich
BEGIN:VEVENT
UID:474@sac-saas.ch
DTSTART;TZID=Europe/Zurich;VALUE=DATE:20250927
DTEND;TZID=Europe/Zurich;VALUE=DATE:20250928
DTSTAMP:20250920T180735Z
URL:https://sac-saas.ch/events/klettern-grande-chenalette-anmeldung-ab-14-
 08-2025/
SUMMARY:Klettern Grande Chenalette/ Anmeldung ab 27.08.2025
DESCRIPTION:&nbsp\;\n\n\n\nAnmeldung ab:\n27.Aug.2025\n\n\nSchwierigkeit\nb
 is 5b\n\n\nEckdaten\n\n\n\nAusrüstung\nKletterausrüstung für alpines kl
 ettern (Details werden noch bekannt gegeben)\n\n\nTreffpunkt\nwird noch be
 kannt gegeben\n\n\nTeilnehmerzahl\n1TL (Francine)\, 1SF (Diana)\, 2Teilneh
 mer\n\n\n\nZustieg: Vom Hospice St. Bernhard circa 1h Zustieg zur Route.\n
 \nAnschliessend alpines Klettern 5Seillängen (bis 5b!) bis zum Grat\, dan
 ach Gratkletterei bis zum Gipfel Gr.Chenalette\n\nAbstieg: circa 1h\n\n&nb
 sp\;
CATEGORIES:Klettern,SAC Tour
END:VEVENT
BEGIN:VTIMEZONE
TZID:Europe/Zurich
X-LIC-LOCATION:Europe/Zurich
BEGIN:DAYLIGHT
DTSTART:20250330T030000
TZOFFSETFROM:+0100
TZOFFSETTO:+0200
TZNAME:CEST
END:DAYLIGHT
END:VTIMEZONE
END:VCALENDAR