BEGIN:VCALENDAR
VERSION:2.0
PRODID:-//wp-events-plugin.com//7.2.3.1//EN
TZID:Europe/Zurich
X-WR-TIMEZONE:Europe/Zurich
BEGIN:VEVENT
UID:403@sac-saas.ch
DTSTART;TZID=Europe/Zurich;VALUE=DATE:20250403
DTEND;TZID=Europe/Zurich;VALUE=DATE:20250404
DTSTAMP:20250311T110131Z
URL:https://sac-saas.ch/events/klettern-fuer-anfaenger-anmeldung-ab-03-03-
 2025/
SUMMARY:Klettern für Anfänger / Anmeldung ab 03.03.2025
DESCRIPTION:Klettern für Anfänger oder Wiedereinsteiger. Es sind keine Vo
 rkenntnisse nötig.\n\nVorrang haben Anfänger! Wenn sich kein Anfänger m
 eldet\, können sich auch andere anmelden.\n\nEinführung in der Halle ode
 r im Freien. Sicher klettern.\n\nWir werden so zwischen 16:00-17:00 Uhr be
 reit sein. Bei der Anmeldung bitte vermerken\, ab wann ihr kommen könnt\,
  wir werden uns danach richten.\n\nPascal und ich freuen uns.\n\n\n\nAnmel
 dung ab:\n03.03.2025\n\n\nSchwierigkeit\n3-5a\n\n\nEckdaten\n\n\n\nAusrüs
 tung\nKlettergurt\, Finken (kann man auch mieten)\, wenn vorhanden Sicheru
 ngsgerät\n\n\nTreffpunkt\nwird später bekannt gegeben\n\n\nTeilnehmerzah
 l\n6\n\n\n\n&nbsp\;
CATEGORIES:SAC Tour
END:VEVENT
BEGIN:VTIMEZONE
TZID:Europe/Zurich
X-LIC-LOCATION:Europe/Zurich
BEGIN:DAYLIGHT
DTSTART:20250330T030000
TZOFFSETFROM:+0100
TZOFFSETTO:+0200
TZNAME:CEST
END:DAYLIGHT
END:VTIMEZONE
END:VCALENDAR