BEGIN:VCALENDAR
VERSION:2.0
PRODID:-//wp-events-plugin.com//7.2.3.1//EN
TZID:Europe/Zurich
X-WR-TIMEZONE:Europe/Zurich
BEGIN:VEVENT
UID:38@sac-saas.ch
DTSTART;TZID=Europe/Zurich;VALUE=DATE:20230518
DTEND;TZID=Europe/Zurich;VALUE=DATE:20230522
DTSTAMP:20230430T142617Z
URL:https://sac-saas.ch/events/kletter-und-wandertage-ueber-auffahrt/
SUMMARY:Kletter- und Wandertage über Auffahrt / Anmeldung ab 23.02.2023
DESCRIPTION:Update 01.05.:\n\nEs hätte bei Bedarf noch 1-2 freie Plätze a
 uf dem Camping (1 Zelt oder 1 Bus) und 1 Platz in einem Appartment. Anmeld
 eschluss 12.05.\n\nAuch dieses Jahr wollen wir wieder über Auffahrt ein p
 aar Tage gemeinsam verbringen. Am Fels oder neu auch ``offiziell`` auf Wan
 derwegen bzw. Klettersteigen. Jan und Simone organisieren die Klettertage 
 und Dominic kümmert sich um ein alternatives Programm. Was sicher ist: wi
 r werden wieder auf einen Campingplatz reservieren\, aber es wird dort auc
 h die Möglichkeit geben\, Bungalows oder Mobilhomes zu buchen. Der genaue
  Ort wird ca. Mitte Februar bekannt gegeben. Wir freuen uns jetzt schon au
 f die Tage im Süden.\n\nWir haben uns nun für Finale Ligure entschieden.
  Standort ist der Eurocamping in Calvisio (www.eurocampingcalvisio.it) so
  das wir dieses Mal das Meer in der Nähe haben (ca. 20 min zu Fuss). \n\
 nWir werden in neue Klettergebiete gehen\, Apero am Strand geniessen\, Gri
 llen am Platz\, Shoppen in Finalborgo\, wandern mit Aussicht usw. \n\nBez
 üglich Unterkunft: es macht Sinn\, so schnell wie möglich zu buchen...Me
 ldet euch bei mir. \n\n&nbsp\;\n\n\n\nAnmeldung möglich ab:\n23.02.2023\
 , 07:00\n\n\nSchwierigkeit\nVoraussetzung fürs klettern: Vorstieg sichern
  können\n\n\nEckdaten\nwerden per Chat kommuniziert\n\n\nAusrüstung\nKle
 ttern: Helm\, Gurt\, ATC/Grigri o.ä.\, Finken\; Seil und Express nach Abs
 prache\n\n\nTreffpunkt\n\n\n\nTeilnehmerzahl\n30 incl. Dominic\, Jan und S
 imone\n\n\n\n&nbsp\;
CATEGORIES:SAC Tour
END:VEVENT
BEGIN:VTIMEZONE
TZID:Europe/Zurich
X-LIC-LOCATION:Europe/Zurich
BEGIN:DAYLIGHT
DTSTART:20230326T030000
TZOFFSETFROM:+0100
TZOFFSETTO:+0200
TZNAME:CEST
END:DAYLIGHT
END:VTIMEZONE
END:VCALENDAR