BEGIN:VCALENDAR
VERSION:2.0
PRODID:-//wp-events-plugin.com//7.2.3.1//EN
TZID:Europe/Zurich
X-WR-TIMEZONE:Europe/Zurich
BEGIN:VEVENT
UID:37@sac-saas.ch
DTSTART;TZID=Europe/Zurich;VALUE=DATE:20230702
DTEND;TZID=Europe/Zurich;VALUE=DATE:20230703
DTSTAMP:20230630T130918Z
URL:https://sac-saas.ch/events/kleine-breithorntraversierung/
SUMMARY:Kleine Breithorntraversierung
DESCRIPTION:Tour ausgebucht!\n\nWeil am 30. Juni die Bahn erst 08:30 Uhr f
 ährt\, verschieben wir die Tour um 2 Tage\, also auf den 2. Juli.\n\nDie 
 Breithorntraversierung ist eine abwechslungsreiche\, aussichtsreiche Gratt
 our in der Zermatter Bergwelt. Bei guten Bedingungen und fitten Teilnehmer
 Innen wäre sogar die gesamte Überschreitung als Tagestour möglich. Auch
  die kleine Traverse ist wunderschön.\n\n\n\nAnmeldung möglich ab:\n15.0
 5.2023\, 07:00\n\n\nSchwierigkeit\nZS/4a\n\n\nEckdaten\n ↑ 500 Hm  ↓
  500 Hm\n\n\nAusrüstung\nHochtour mit Pickel\, Steigeisen\, Helm\, Gurt\,
  Bandschlinge\, Prusik\, 2 Schraubkarabiner\, ATC oder Tuber\, Lunch\, Hal
 btaxabo\, freiwillig: Eisschraube\n\nSeilführer: 40m Seil\, Eisschraube\,
  2 mittlere Friends\, zusätzliche Schraubkarabiner und Schlingen\, 3 Expr
 essschlingen\, Rettungsmaterial\, Apotheke\n\n\nTreffpunkt\nBahnstation Ri
 chtung Klein Matterhorn in Zermatt 06:30 Uhr\n\n\nTeilnehmerzahl\n4 inkl. 
 TL Diana und SF Mario\n\n\n\n&nbsp\;
CATEGORIES:SAC Tour
END:VEVENT
BEGIN:VTIMEZONE
TZID:Europe/Zurich
X-LIC-LOCATION:Europe/Zurich
BEGIN:DAYLIGHT
DTSTART:20230326T030000
TZOFFSETFROM:+0100
TZOFFSETTO:+0200
TZNAME:CEST
END:DAYLIGHT
END:VTIMEZONE
END:VCALENDAR