BEGIN:VCALENDAR
VERSION:2.0
PRODID:-//wp-events-plugin.com//7.2.3.1//EN
TZID:Europe/Zurich
X-WR-TIMEZONE:Europe/Zurich
BEGIN:VEVENT
UID:119@sac-saas.ch
DTSTART;TZID=Europe/Zurich;VALUE=DATE:20230319
DTEND;TZID=Europe/Zurich;VALUE=DATE:20230320
DTSTAMP:20230317T174422Z
URL:https://sac-saas.ch/events/kibe-skitag/
SUMMARY:KiBe Skitag Rothwald
DESCRIPTION:Der diesjährige Skitag verbingen wir im kleinem aber feinem Sk
 igebiet Rotwald. Coole Abfahrten im schönen Lärchenwald garantiert. Wir 
 werden auch ein paar Abfahrten abseits der Piste machen.\n\n\n\nSchwierigk
 eit\nleicht\n\n\nAnmeldeschluss\nMittwoch\, 15.3\n\n\nAusrüstung\nSkiausr
 üstung\, Lawinenschaufel\, Sonde\, LVS\, für Verpflegung ist gesorgt.\n\
 n\nTreffpunkt\nPost ab Saas-Fee 7.52\, ab Saas-Grund 08.00\n\n\nKosten\n10
 .- plus Skiticket und Transport (ÖV)\n\n\n\n&nbsp\;
CATEGORIES:SAC Tour
END:VEVENT
BEGIN:VTIMEZONE
TZID:Europe/Zurich
X-LIC-LOCATION:Europe/Zurich
BEGIN:STANDARD
DTSTART:20221030T020000
TZOFFSETFROM:+0200
TZOFFSETTO:+0100
TZNAME:CET
END:STANDARD
END:VTIMEZONE
END:VCALENDAR