BEGIN:VCALENDAR
VERSION:2.0
PRODID:-//wp-events-plugin.com//7.2.3.1//EN
TZID:Europe/Zurich
X-WR-TIMEZONE:Europe/Zurich
BEGIN:VEVENT
UID:173@sac-saas.ch
DTSTART;TZID=Europe/Zurich;VALUE=DATE:20230513
DTEND;TZID=Europe/Zurich;VALUE=DATE:20230515
DTSTAMP:20230511T061557Z
URL:https://sac-saas.ch/events/kibe-kletterwochenende-camping/
SUMMARY:KiBe Kletterwochenende mit Camping in Siders
DESCRIPTION:&nbsp\;\n\n***Da wir zu wenig Teilnehmer haben machen wir nur e
 in Klettertag am Samstag\, je nach Wetter wird der Ort noch bekannt gegebe
 n***\n\n&nbsp\;\n\nAm 13.-14. Mai verbringen wir ein Wochenende in Siders 
 auf dem Camping. Ganz in der Nähe gibts ein paar coole Klettergebiete wo 
 wir beide Tage viel klettern werden. Der Camping Swissplage ist super sch
 ön und hat sogar einen Privatsee wo wir am Samstagnachmittag sicher viel 
 Spass haben werden.\n\nJe nach Teilnehmer reisen wir mit dem ÖV oder mit 
 dem Auto an.\n\n\n\nSchwierigkeit\nleicht\n\n\nAnmeldeschluss\n 10.5.23\n
 \n\nAusrüstung\nKlettergurt\, Kletterfinken\, Helm\, falls vorhanden Sich
 erungsgerät und Espresschlingen. Lunch für Samstag und Sonntag Mittag\, 
 für das Abendessen und Frühstück ist gesorgt\, Campingmatte\, Schlafsac
 k\, Stirnlampe\, pers. Toilettenartikel\, Badekleider und Badetuch\, falls
  vorhanden Spiele für auf dem Camping\n\n\nTreffpunkt\nwird noch bekannt 
 gegeben\n\n\nKosten\nJe nach Teilnehmerzahl\, bei 6 Personen 60.-\n\n\n\n&
 nbsp\;
CATEGORIES:SAC Tour
END:VEVENT
BEGIN:VTIMEZONE
TZID:Europe/Zurich
X-LIC-LOCATION:Europe/Zurich
BEGIN:DAYLIGHT
DTSTART:20230326T030000
TZOFFSETFROM:+0100
TZOFFSETTO:+0200
TZNAME:CEST
END:DAYLIGHT
END:VTIMEZONE
END:VCALENDAR