BEGIN:VCALENDAR
VERSION:2.0
PRODID:-//wp-events-plugin.com//7.2.3.1//EN
TZID:Europe/Zurich
X-WR-TIMEZONE:Europe/Zurich
BEGIN:VEVENT
UID:291@sac-saas.ch
DTSTART;TZID=Europe/Zurich;VALUE=DATE:20240414
DTEND;TZID=Europe/Zurich;VALUE=DATE:20240415
DTSTAMP:20240407T173245Z
URL:https://sac-saas.ch/events/kibe-klettertag-kapellengraben-2024-anmeldu
 ng-ab-23-11-23/
SUMMARY:KiBe Klettertag Kapellengraben 2024 / Anmeldung ab 23.11.23
DESCRIPTION:Wir starten die Klettersaison im Kapellengraben in Saas-Fee. Es
  hat für alle etwas\, auch Anfänger sind willkommen.\n\n\n\nAnmeldung bi
 s:\n10.4.24\n\n\nSchwierigkeit\nEinfach\n\n\nKosten\n10.-\n\n\nAusrüstung
 \nKlettergurt\, Kletterfinken\, Helm\, falls vorhanden Sicherungsgerät\, 
 Sonnenschutz\, Lunch\n\n\nTreffpunkt\n\n\n\nTeilnehmerzahl\n\n\n\n\n&nbsp\
 ;
CATEGORIES:SAC Tour
END:VEVENT
BEGIN:VTIMEZONE
TZID:Europe/Zurich
X-LIC-LOCATION:Europe/Zurich
BEGIN:DAYLIGHT
DTSTART:20240331T030000
TZOFFSETFROM:+0100
TZOFFSETTO:+0200
TZNAME:CEST
END:DAYLIGHT
END:VTIMEZONE
END:VCALENDAR