BEGIN:VCALENDAR
VERSION:2.0
PRODID:-//wp-events-plugin.com//7.2.3.1//EN
TZID:Europe/Zurich
X-WR-TIMEZONE:Europe/Zurich
BEGIN:VEVENT
UID:180@sac-saas.ch
DTSTART;TZID=Europe/Zurich;VALUE=DATE:20230903
DTEND;TZID=Europe/Zurich;VALUE=DATE:20230904
DTSTAMP:20230831T154414Z
URL:https://sac-saas.ch/events/kibe-klettersteig-zermatt/
SUMMARY:KiBe Klettersteig Zermatt
DESCRIPTION:Am Sonntag\, 3.9. gehen wir nach Zermatt an den Klettersteig. J
 e nach Teilnehmer werden wir nur den ersten Teil klettern oder gleich bis 
 ganz oben gehen. Ich freue mich auf viele Anmeldungen\n\n\n\nSchwierigkeit
 \nmittel\n\n\nAnmeldeschluss\n 19.04.23\n\n\nAusrüstung\nKlettergurt\, H
 elm\, Lunch\, Klettersteigset\, Lunch\, dünne Handschuhe\, Sonnenschutz\n
 \n\nTreffpunkt\n09.00 Saas-Grund / 09.20 Stalden Killerhof\n\n\nKosten\n10
 .-\n\n\n \n\n\n\n\n&nbsp\;
CATEGORIES:SAC Tour
END:VEVENT
BEGIN:VTIMEZONE
TZID:Europe/Zurich
X-LIC-LOCATION:Europe/Zurich
BEGIN:DAYLIGHT
DTSTART:20230326T030000
TZOFFSETFROM:+0100
TZOFFSETTO:+0200
TZNAME:CEST
END:DAYLIGHT
END:VTIMEZONE
END:VCALENDAR