BEGIN:VCALENDAR
VERSION:2.0
PRODID:-//wp-events-plugin.com//7.2.3.1//EN
TZID:Europe/Zurich
X-WR-TIMEZONE:Europe/Zurich
BEGIN:VEVENT
UID:124@sac-saas.ch
DTSTART;TZID=Europe/Zurich;VALUE=DATE:20230423
DTEND;TZID=Europe/Zurich;VALUE=DATE:20230424
DTSTAMP:20221201T202136Z
URL:https://sac-saas.ch/events/kibe-klettern-visp/
SUMMARY:KiBe Klettern Region Visp
DESCRIPTION:&nbsp\;\n\n\n\nSchwierigkeit\nleicht\n\n\nAnmeldeschluss\n 19.
 04.23\n\n\nAusrüstung\nKlettergurt\, Kletterfinken\, Helm\, Lunch\, falls
  vorhanden Sicherungsgerät und Espresschlingen\n\n\nTreffpunkt\n\n\n\nKos
 ten\n10.-\n\n\n\n&nbsp\;
CATEGORIES:SAC JO,SAC KIBE
END:VEVENT
BEGIN:VTIMEZONE
TZID:Europe/Zurich
X-LIC-LOCATION:Europe/Zurich
BEGIN:DAYLIGHT
DTSTART:20230326T030000
TZOFFSETFROM:+0100
TZOFFSETTO:+0200
TZNAME:CEST
END:DAYLIGHT
END:VTIMEZONE
END:VCALENDAR