BEGIN:VCALENDAR
VERSION:2.0
PRODID:-//wp-events-plugin.com//7.2.3.1//EN
TZID:Europe/Zurich
X-WR-TIMEZONE:Europe/Zurich
BEGIN:VEVENT
UID:341@sac-saas.ch
DTSTART;TZID=Europe/Zurich;VALUE=DATE:20240704
DTEND;TZID=Europe/Zurich;VALUE=DATE:20240708
DTSTAMP:20240206T193935Z
URL:https://sac-saas.ch/events/kibe-jo-sommerlager-piansecco-anmeldung-ab-
 01-05-2024/
SUMMARY:KiBe/JO Sommerlager Piansecco / Anmeldung ab 01.05.2024
DESCRIPTION:Text\n\n\n\nAnmeldung möglich ab:\n01.05.2024 / bis 20.06.2024
 \n\n\nSchwierigkeit\nMittel\n\n\nKosten\nwird noch bekannt gegeben\n\n\nAu
 srüstung\nwird noch bekannt gegeben\n\n\nTreffpunkt\n\n\n\nTeilnehmerzahl
 \n\n\n\n\n&nbsp\;
CATEGORIES:SAC Tour
END:VEVENT
BEGIN:VTIMEZONE
TZID:Europe/Zurich
X-LIC-LOCATION:Europe/Zurich
BEGIN:DAYLIGHT
DTSTART:20240331T030000
TZOFFSETFROM:+0100
TZOFFSETTO:+0200
TZNAME:CEST
END:DAYLIGHT
END:VTIMEZONE
END:VCALENDAR