BEGIN:VCALENDAR
VERSION:2.0
PRODID:-//wp-events-plugin.com//7.2.3.1//EN
TZID:Europe/Zurich
X-WR-TIMEZONE:Europe/Zurich
BEGIN:VEVENT
UID:286@sac-saas.ch
DTSTART;TZID=Europe/Zurich;VALUE=DATE:20240518
DTEND;TZID=Europe/Zurich;VALUE=DATE:20240520
DTSTAMP:20240206T180706Z
URL:https://sac-saas.ch/events/kibe-jo-kletterwochenende-tessin/
SUMMARY:KiBe/JO Kletterwochenende Tessin/Anmeldung bis 08.05.2024
DESCRIPTION:Wir verbringen ein Wochenende auf dem Camping im Tessin. Zahlre
 iche coole Klettergebiete gibt es in der Region.\n\n\n\nAnmeldung bis:\n8.
 5.24\n\n\nSchwierigkeit\neinfach\n\n\nKosten\nwird noch bekanntgegeben\n\n
 \nAusrüstung\n\n\n\nTreffpunkt\n\n\n\nTeilnehmerzahl\n\n\n\n\n&nbsp\;
CATEGORIES:SAC Tour
END:VEVENT
BEGIN:VTIMEZONE
TZID:Europe/Zurich
X-LIC-LOCATION:Europe/Zurich
BEGIN:DAYLIGHT
DTSTART:20240331T030000
TZOFFSETFROM:+0100
TZOFFSETTO:+0200
TZNAME:CEST
END:DAYLIGHT
END:VTIMEZONE
END:VCALENDAR