BEGIN:VCALENDAR
VERSION:2.0
PRODID:-//wp-events-plugin.com//7.2.3.1//EN
TZID:Europe/Zurich
X-WR-TIMEZONE:Europe/Zurich
BEGIN:VEVENT
UID:338@sac-saas.ch
DTSTART;TZID=Europe/Zurich;VALUE=DATE:20240929
DTEND;TZID=Europe/Zurich;VALUE=DATE:20240930
DTSTAMP:20240922T113737Z
URL:https://sac-saas.ch/events/kibe-jo-klettertag-region-visp-anmeldung-ab
 -01-05-2024/
SUMMARY:KiBe/JO Klettertag Region Visp / Anmeldung ab 01.05.2024
DESCRIPTION:Wir treffen uns am Sonntag für einen schönen Herbstklettertag
  in der Region Visp. Es hat für alle Niveau etwas dabei!\n\nFabian\n\n\n\
 nAnmeldung möglich ab:\n01.05.2024 / bis 25.09.2024\n\n\nSchwierigkeit\ne
 infach\n\n\nKosten\n10.00\n\n\nAusrüstung\nKlettergurt\, Kletterfinken\, 
 Helm\, falls vorhanden Sicherungsgerät\, Lunch\, Sonnenschutz\n\n\nTreffp
 unkt\nwird noch bekanntgegeben\n\n\nTeilnehmerzahl\n\n\n\n\n&nbsp\;
CATEGORIES:SAC Tour
END:VEVENT
BEGIN:VTIMEZONE
TZID:Europe/Zurich
X-LIC-LOCATION:Europe/Zurich
BEGIN:DAYLIGHT
DTSTART:20240331T030000
TZOFFSETFROM:+0100
TZOFFSETTO:+0200
TZNAME:CEST
END:DAYLIGHT
END:VTIMEZONE
END:VCALENDAR