BEGIN:VCALENDAR
VERSION:2.0
PRODID:-//wp-events-plugin.com//7.2.3.1//EN
TZID:Europe/Zurich
X-WR-TIMEZONE:Europe/Zurich
BEGIN:VEVENT
UID:175@sac-saas.ch
DTSTART;TZID=Europe/Zurich;VALUE=DATE:20230617
DTEND;TZID=Europe/Zurich;VALUE=DATE:20230618
DTSTAMP:20230615T102052Z
URL:https://sac-saas.ch/events/kibe-jo-klettern-naters/
SUMMARY:KiBe/JO klettern Region Naters
DESCRIPTION:Am Samstag\, 17.6. steht ein Klettertag in Naters auf dem Progr
 amm. Wir werden je nach Teilnehmer in einem der vielen Klettergärten rund
  um Naters den Tag verbringen und viel klettern.\nVon Anfänger bis Profis
  hats für alle etwas!\n\nIch freue mich auf einen coole Tag im Fels mit v
 ielen Teilnehmern.\n\nFabian\n\n\n\nSchwierigkeit\nleicht\n\n\nAnmeldeschl
 uss\n 14.6.2023\n\n\nAusrüstung\nKlettergurt\, Kletterfinken\, Helm\, Lu
 nch\, Sonnenschutz\, falls vorhanden Sicherungsgerät und Espresschlingen\
 n\n\nTreffpunkt\n09.00 Saas-Fee\, 09.15 Saas-Grund\n\n\nKosten\n10.-\n\n\n
 \n&nbsp\;
CATEGORIES:SAC Tour
END:VEVENT
BEGIN:VTIMEZONE
TZID:Europe/Zurich
X-LIC-LOCATION:Europe/Zurich
BEGIN:DAYLIGHT
DTSTART:20230326T030000
TZOFFSETFROM:+0100
TZOFFSETTO:+0200
TZNAME:CEST
END:DAYLIGHT
END:VTIMEZONE
END:VCALENDAR