BEGIN:VCALENDAR
VERSION:2.0
PRODID:-//wp-events-plugin.com//7.2.3.1//EN
TZID:Europe/Zurich
X-WR-TIMEZONE:Europe/Zurich
BEGIN:VEVENT
UID:181@sac-saas.ch
DTSTART;TZID=Europe/Zurich;VALUE=DATE:20230924
DTEND;TZID=Europe/Zurich;VALUE=DATE:20230925
DTSTAMP:20230204T210423Z
URL:https://sac-saas.ch/events/kibe-jo-klettern-arbaz/
SUMMARY:KiBe/JO Klettern Arbaz
DESCRIPTION:&nbsp\;\n\n\n\nSchwierigkeit\nleicht\n\n\nAnmeldeschluss\n 20.
 9.2023\n\n\nAusrüstung\nKlettergurt\, Kletterfinken\, Helm\, Lunch\, fall
 s vorhanden Sicherungsgerät und Espresschlingen\, Lunch\, Sonnenschutz\n\
 n\nTreffpunkt\n\n\n\nKosten\n10.-\n\n\n\n&nbsp\;
CATEGORIES:SAC JO,SAC KIBE
END:VEVENT
BEGIN:VTIMEZONE
TZID:Europe/Zurich
X-LIC-LOCATION:Europe/Zurich
BEGIN:DAYLIGHT
DTSTART:20230326T030000
TZOFFSETFROM:+0100
TZOFFSETTO:+0200
TZNAME:CEST
END:DAYLIGHT
END:VTIMEZONE
END:VCALENDAR