BEGIN:VCALENDAR
VERSION:2.0
PRODID:-//wp-events-plugin.com//7.2.3.1//EN
TZID:Europe/Zurich
X-WR-TIMEZONE:Europe/Zurich
BEGIN:VEVENT
UID:182@sac-saas.ch
DTSTART;TZID=Europe/Zurich;VALUE=DATE:20231019
DTEND;TZID=Europe/Zurich;VALUE=DATE:20231023
DTSTAMP:20231020T034522Z
URL:https://sac-saas.ch/events/kibe-jo-herbstlager/
SUMMARY:KiBe/JO Herbstlager Südfrankreich
DESCRIPTION:Das diesjährige Herbstlager wird geleitet von Johannes Andenma
 tten. 4 Tage Spass mit viel Klettern und Spiel mit Kollegen.\nWir werden e
 in Haus/Apartment mieten.\nGenaue Infos folgen noch von Johannes.\n\n\n\nS
 chwierigkeit\nleicht\n\n\nAnmeldeschluss\n !! 12.10.2023 !!\n\n\nAusrüst
 ung\nKlettergurt\, Kletterfinken\, Helm\, Lunch\, falls vorhanden Sicherun
 gsgerät und Espresschlingen\, Toilettenartikel\, Ersatzwäsche für 4 Tag
 e\, ID\, Sonnenschutz\n\n\nTreffpunkt\nwird nach Anmeldeschluss bekanntgeg
 eben\n\n\nKosten\n10.-\n\n\n\n&nbsp\;
CATEGORIES:SAC JO,SAC KIBE,SAC Tour
END:VEVENT
BEGIN:VTIMEZONE
TZID:Europe/Zurich
X-LIC-LOCATION:Europe/Zurich
BEGIN:DAYLIGHT
DTSTART:20230326T030000
TZOFFSETFROM:+0100
TZOFFSETTO:+0200
TZNAME:CEST
END:DAYLIGHT
END:VTIMEZONE
END:VCALENDAR