BEGIN:VCALENDAR
VERSION:2.0
PRODID:-//wp-events-plugin.com//7.2.3.1//EN
TZID:Europe/Zurich
X-WR-TIMEZONE:Europe/Zurich
BEGIN:VEVENT
UID:295@sac-saas.ch
DTSTART;TZID=Europe/Zurich;VALUE=DATE:20240114
DTEND;TZID=Europe/Zurich;VALUE=DATE:20240115
DTSTAMP:20240111T075644Z
URL:https://sac-saas.ch/events/kibe-jo-gletscherwanderung-laengfluh-2024-a
 nmeldung-ab-23-11-23/
SUMMARY:KiBe/JO Gletscherwanderung Längfluh 2024 / Anmeldung ab 23.11.23
DESCRIPTION:ir erkunden dieses Jahr wieder die wunderschöne Gletscherwelt.
  Mit Schneeschuhen ausgerüstet machen wir eine eindrückliche Wanderung m
 itten im Eis.\n\n\n\nAnmeldung bis:\n11.1.24\n\n\nSchwierigkeit\neinfach\n
 \n\nKosten\n10.- plus Bahnticket\n\n\nAusrüstung\nSchneeschuhe\, Wandersc
 huhe\, Wanderstock\, warme Kleidung\, Sonnenschutz\, Lunch\, warmes Geträ
 nk\n\n\nTreffpunkt\nwird noch bekanntgegeben\n\n\nTeilnehmerzahl\n\n\n\n\n
 &nbsp\;
CATEGORIES:SAC JO,SAC Tour
END:VEVENT
BEGIN:VTIMEZONE
TZID:Europe/Zurich
X-LIC-LOCATION:Europe/Zurich
BEGIN:STANDARD
DTSTART:20231029T020000
TZOFFSETFROM:+0200
TZOFFSETTO:+0100
TZNAME:CET
END:STANDARD
END:VTIMEZONE
END:VCALENDAR