BEGIN:VCALENDAR
VERSION:2.0
PRODID:-//wp-events-plugin.com//7.2.3.1//EN
TZID:Europe/Zurich
X-WR-TIMEZONE:Europe/Zurich
BEGIN:VEVENT
UID:294@sac-saas.ch
DTSTART;TZID=Europe/Zurich;VALUE=DATE:20240211
DTEND;TZID=Europe/Zurich;VALUE=DATE:20240212
DTSTAMP:20231123T210458Z
URL:https://sac-saas.ch/events/kibe-jo-eisklettern-chalchofen-2024-anmeldu
 ng-ab-23-11-23/
SUMMARY:KiBe/JO Eisklettern Chalchofen 2024 / Anmeldung ab 23.11.23
DESCRIPTION:Im Chalchofen in Saas-Grund verbringen wir ein Tag mit Eisklett
 ern. Von Anfänger bis Experten hat es für alle etwas dabei.\n\n\n\nAnmel
 dung bis:\n7.2.24\n\n\nSchwierigkeit\nmittel\n\n\nEckdaten\n10.- plus Tage
 seintritt Chalchofen\n\n\nAusrüstung\nSteigeisenfeste Bergschuhe\, Steige
 isen\, Klettergurt\, Helm\, warme Kleidung\, falls vorhanden Sicherungsger
 ät und Eispickel\n\n\nTreffpunkt\n\n\n\nTeilnehmerzahl\n\n\n\n\n&nbsp\;
CATEGORIES:SAC Tour
END:VEVENT
BEGIN:VTIMEZONE
TZID:Europe/Zurich
X-LIC-LOCATION:Europe/Zurich
BEGIN:STANDARD
DTSTART:20231029T020000
TZOFFSETFROM:+0200
TZOFFSETTO:+0100
TZNAME:CET
END:STANDARD
END:VTIMEZONE
END:VCALENDAR