BEGIN:VCALENDAR
VERSION:2.0
PRODID:-//wp-events-plugin.com//7.2.3.1//EN
TZID:Europe/Zurich
X-WR-TIMEZONE:Europe/Zurich
BEGIN:VEVENT
UID:179@sac-saas.ch
DTSTART;TZID=Europe/Zurich;VALUE=DATE:20230813
DTEND;TZID=Europe/Zurich;VALUE=DATE:20230814
DTSTAMP:20230811T124346Z
URL:https://sac-saas.ch/events/kibe-hochtour-allalin/
SUMMARY:KiBe Hochtour Allalin
DESCRIPTION:&nbsp\;\n\n\n\nSchwierigkeit\nmittel\n\n\nAnmeldeschluss\n 19.
 04.23\n\n\nAusrüstung\nKlettergurt\, Bergschuhe\, Steigeisen\, Wanderstoc
 k mit Teller\, warme Kleidung\, Lunch\, Sonnenschutz\n\n\nTreffpunkt\n7.30
  Alpin Express\n\n\nKosten\n10.- plus Ticket\n\n\n\n&nbsp\;
CATEGORIES:SAC Tour
END:VEVENT
BEGIN:VTIMEZONE
TZID:Europe/Zurich
X-LIC-LOCATION:Europe/Zurich
BEGIN:DAYLIGHT
DTSTART:20230326T030000
TZOFFSETFROM:+0100
TZOFFSETTO:+0200
TZNAME:CEST
END:DAYLIGHT
END:VTIMEZONE
END:VCALENDAR