BEGIN:VCALENDAR
VERSION:2.0
PRODID:-//wp-events-plugin.com//7.2.3.1//EN
TZID:Europe/Zurich
X-WR-TIMEZONE:Europe/Zurich
BEGIN:VEVENT
UID:288@sac-saas.ch
DTSTART;TZID=Europe/Zurich;VALUE=DATE:20240608
DTEND;TZID=Europe/Zurich;VALUE=DATE:20240609
DTSTAMP:20240603T071154Z
URL:https://sac-saas.ch/events/kibe-bouldern-saastal-2024-anmeldung-ab-23-
 11-23/
SUMMARY:KiBe Bouldern Saastal/Anmelden bis 6.6.24
DESCRIPTION:Mit Bouldermatte und Kletterfinken ausgerüstet verbringen wir 
 ein Tag an den Boulderblöcken im Saastal. Sei dabei und probier das mal a
 us!\n\n\n\nAnmeldung bis:\n6.6.24\n\n\nSchwierigkeit\nleicht\n\n\nKosten\n
 10.-\n\n\nAusrüstung\nKletterfinken\, Sonnenschutz\, Lunch\n\n\nTreffpunk
 t\nSaas-Grund Post 10.00\n\n\nTeilnehmerzahl\n\n\n\n\n&nbsp\;
CATEGORIES:SAC KIBE,SAC Tour
END:VEVENT
BEGIN:VTIMEZONE
TZID:Europe/Zurich
X-LIC-LOCATION:Europe/Zurich
BEGIN:DAYLIGHT
DTSTART:20240331T030000
TZOFFSETFROM:+0100
TZOFFSETTO:+0200
TZNAME:CEST
END:DAYLIGHT
END:VTIMEZONE
END:VCALENDAR