BEGIN:VCALENDAR
VERSION:2.0
PRODID:-//wp-events-plugin.com//7.2.3.1//EN
TZID:Europe/Zurich
X-WR-TIMEZONE:Europe/Zurich
BEGIN:VEVENT
UID:241@sac-saas.ch
DTSTART;TZID=Europe/Zurich;VALUE=DATE:20240524
DTEND;TZID=Europe/Zurich;VALUE=DATE:20240525
DTSTAMP:20240129T201814Z
URL:https://sac-saas.ch/events/kakteen-wanderung-im-wallis-festival-der-na
 tur/
SUMMARY:Kakteen Wanderung im Wallis /Festival der Natur / Anmeldung ab 24.0
 4.2024
DESCRIPTION:Das Wallis ist ja bekannt für seinen Wein. Lange Rebhänge zie
 hen im Unterwallis den Blick auf sich. Das Walliser Steppenklima hat aber 
 noch ein paar andere kuriose Besonderheiten: wildwachsende Kakteen. Es ist
  einmalig für Mitteleuropa\, solche von Kakteen überwachsene Felsen und 
 Hänge zu sehen. Das gibt es sonst nur im SW der USA oder in Mexiko zu bes
 taunen. Wir verbringen den Tag in der Gegend um Sitten.\n\n\n\nAnmeldung m
 öglich ab:\n25.04.2024\n\n\nSchwierigkeit\nT 1\n\n\nEckdaten\n\n\n\nAusr
 üstung\ndem Wetter angepasste Kleidung\, Sonnenschutz\, PicNic\, Getränk
 e\n\n\nTreffpunkt\nVisp ab 9:06 Uhr \; Sitten Postauto 9:45 Uhr Richtung P
 ont de la Morge Centre. Retour ca. 16 Uhr von Sitten\n\n\nTeilnehmerzahl\n
 10\n\n\n\n&nbsp\;
CATEGORIES:SAC Tour,Wanderung
END:VEVENT
BEGIN:VTIMEZONE
TZID:Europe/Zurich
X-LIC-LOCATION:Europe/Zurich
BEGIN:DAYLIGHT
DTSTART:20240331T030000
TZOFFSETFROM:+0100
TZOFFSETTO:+0200
TZNAME:CEST
END:DAYLIGHT
END:VTIMEZONE
END:VCALENDAR