BEGIN:VCALENDAR
VERSION:2.0
PRODID:-//wp-events-plugin.com//7.2.3.1//EN
TZID:Europe/Zurich
X-WR-TIMEZONE:Europe/Zurich
BEGIN:VEVENT
UID:177@sac-saas.ch
DTSTART;TZID=Europe/Zurich;VALUE=DATE:20230706
DTEND;TZID=Europe/Zurich;VALUE=DATE:20230710
DTSTAMP:20230615T101715Z
URL:https://sac-saas.ch/events/jokibe-sommerlager/
SUMMARY:KiBe/JO Sommerlager Ornyhütte
DESCRIPTION:Das diesjährige Sommerlager verbringen wir auf der schönen Or
 nyhütte im Unterwallis. In den 4 Tagen werden wir viel klettern rund um d
 ie Hütte\, den Ornygletscher erkunden und 1-2 Gipfel besteigen. Ich freue
  mich auf ein schönes Lager.\n\n\n\nSchwierigkeit\nmittel\n\n\nAnmeldesch
 luss\n !! 26.6.2023 !!\n\n\nAusrüstung\nKlettergurt\, Helm\, Steigeisen\
 , Pikel\, Bergschuhe\, falls vorhanden Sicherungsgerät\, warme Kleidung\,
  Handschuhe\, Sonnenschutz\, Lunch (in der Hütte können Lunchpakete best
 ellt werden)\, pers. Toilettenartikel\, Seidenschlafsack\, Stirnlampe\n\n\
 nTreffpunkt\nWird nach Anmeldeschluss bekannt gegeben\n\n\nKosten\nWird na
 ch Anmeldeschluss bekannt gegeben\, je nach Teilnehmerzahl\n\n\n\n&nbsp\;
CATEGORIES:SAC Tour
END:VEVENT
BEGIN:VTIMEZONE
TZID:Europe/Zurich
X-LIC-LOCATION:Europe/Zurich
BEGIN:DAYLIGHT
DTSTART:20230326T030000
TZOFFSETFROM:+0100
TZOFFSETTO:+0200
TZNAME:CEST
END:DAYLIGHT
END:VTIMEZONE
END:VCALENDAR