BEGIN:VCALENDAR
VERSION:2.0
PRODID:-//wp-events-plugin.com//7.2.3.1//EN
TZID:Europe/Zurich
X-WR-TIMEZONE:Europe/Zurich
BEGIN:VEVENT
UID:509@sac-saas.ch
DTSTART;TZID=Europe/Zurich;VALUE=DATE:20260823
DTEND;TZID=Europe/Zurich;VALUE=DATE:20260824
DTSTAMP:20260401T082449Z
URL:https://sac-saas.ch/events/joderhorn-se-grat-via-micotti-anmeldung-ab-
 13-07-2026/
SUMMARY:Joderhorn - SE-Grat (via Micotti) / Anmeldung ab 13.07.2026
DESCRIPTION:&nbsp\;\n\n\n\nAnmeldung ab:\n13.07.2026\n\n\nSchwierigkeit\n5a
  (4a)\n\n\nEckdaten\n↑600 ↓ 800\n\n\nAusrüstung\nMehrseillänge Ausr
 üstung (Details folgen)\n\n\nTreffpunkt\nMattmark\n\n\nTeilnehmerzahl\n3 
 / mit SF 4 oder 6\n\n\n\n&nbsp\;
CATEGORIES:Klettern,SAC Tour
END:VEVENT
BEGIN:VTIMEZONE
TZID:Europe/Zurich
X-LIC-LOCATION:Europe/Zurich
BEGIN:DAYLIGHT
DTSTART:20260329T030000
TZOFFSETFROM:+0100
TZOFFSETTO:+0200
TZNAME:CEST
END:DAYLIGHT
END:VTIMEZONE
END:VCALENDAR