BEGIN:VCALENDAR
VERSION:2.0
PRODID:-//wp-events-plugin.com//7.2.3.1//EN
TZID:Europe/Zurich
X-WR-TIMEZONE:Europe/Zurich
BEGIN:VEVENT
UID:296@sac-saas.ch
DTSTART;TZID=Europe/Zurich;VALUE=DATE:20240317
DTEND;TZID=Europe/Zurich;VALUE=DATE:20240318
DTSTAMP:20231123T211523Z
URL:https://sac-saas.ch/events/jo-skitour-saas-2024-anmeldung-ab-23-11-23/
SUMMARY:JO Skitour Saas 2024 / Anmeldung ab 23.11.23
DESCRIPTION:Wir machen im Saastal eine Skitour mit einer Abfahrt in schöne
 m Pulverschnee. Der genaue Ort wird je nach Verhältnissen kurzfristig bes
 timmt.\n\n\n\nAnmeldung bis:\n13.3.24\n\n\nSchwierigkeit\nmittel\n\n\nEckd
 aten\n10.-\n\n\nAusrüstung\nSkitourenausrüstung inklusive Lawinenmateria
 l\, warme Kleidung\, Sonnenschutz\, Lunch\n\n\nTreffpunkt\n\n\n\nTeilnehme
 rzahl\n\n\n\n\n&nbsp\;
CATEGORIES:SAC Tour
END:VEVENT
BEGIN:VTIMEZONE
TZID:Europe/Zurich
X-LIC-LOCATION:Europe/Zurich
BEGIN:STANDARD
DTSTART:20231029T020000
TZOFFSETFROM:+0200
TZOFFSETTO:+0100
TZNAME:CET
END:STANDARD
END:VTIMEZONE
END:VCALENDAR